BEGIN:VCALENDAR
VERSION:2.0
PRODID:-//P.A.D.D. - ECPv6.13.2.1//NONSGML v1.0//EN
CALSCALE:GREGORIAN
METHOD:PUBLISH
X-WR-CALNAME:P.A.D.D.
X-ORIGINAL-URL:https://www.paddnorth.ca
X-WR-CALDESC:Events for P.A.D.D.
REFRESH-INTERVAL;VALUE=DURATION:PT1H
X-Robots-Tag:noindex
X-PUBLISHED-TTL:PT1H
BEGIN:VTIMEZONE
TZID:UTC
BEGIN:STANDARD
TZOFFSETFROM:+0000
TZOFFSETTO:+0000
TZNAME:UTC
DTSTART:20230101T000000
END:STANDARD
END:VTIMEZONE
BEGIN:VEVENT
DTSTART;TZID=UTC:20230809T190000
DTEND;TZID=UTC:20230809T200000
DTSTAMP:20260425T152013
CREATED:20230730T201814Z
LAST-MODIFIED:20230730T201814Z
UID:740-1691607600-1691611200@www.paddnorth.ca
SUMMARY:Summer Break\, Pizza and Movie Night
DESCRIPTION:We will be taking a break from presentations and having a Pizza and Movie Night. \nAdult children are welcome to come and enjoy.
URL:https://www.paddnorth.ca/event/summer-break-pizza-and-movie-night/
LOCATION:Community Living North Bay\, 741 Wallace Road\, North Bay\, Ontario\, Canada
ORGANIZER;CN="P.A.D.D.":MAILTO:lindat@email.com
END:VEVENT
BEGIN:VEVENT
DTSTART;TZID=UTC:20230913T190000
DTEND;TZID=UTC:20230913T200000
DTSTAMP:20260425T152013
CREATED:20230731T203028Z
LAST-MODIFIED:20230731T203028Z
UID:749-1694631600-1694635200@www.paddnorth.ca
SUMMARY:Employment First -North Bay Community Living
DESCRIPTION:“The Employment First Team works together with Employers\, Candidates and Business Owners to meet the employment needs of our community” \nJoin us as they present their progam. Refreshments will be served!
URL:https://www.paddnorth.ca/event/employment-first-north-bay-community-living/
LOCATION:Ontario
ORGANIZER;CN="P.A.D.D.":MAILTO:lindat@email.com
END:VEVENT
BEGIN:VEVENT
DTSTART;TZID=UTC:20260311T180000
DTEND;TZID=UTC:20260311T190000
DTSTAMP:20260425T152013
CREATED:20260303T193451Z
LAST-MODIFIED:20260303T193451Z
UID:754-1773252000-1773255600@www.paddnorth.ca
SUMMARY:Senior's Care - Community Living
DESCRIPTION:We will be continuing our series on Senior’s care with a representative from Community Living.
URL:https://www.paddnorth.ca/event/seniors-care-community-living/
LOCATION:Community Living North Bay\, 741 Wallace Road\, North Bay\, Ontario\, Canada
END:VEVENT
END:VCALENDAR