BEGIN:VCALENDAR
VERSION:2.0
PRODID:-//P.A.D.D. - ECPv6.13.2.1//NONSGML v1.0//EN
CALSCALE:GREGORIAN
METHOD:PUBLISH
X-ORIGINAL-URL:https://www.paddnorth.ca
X-WR-CALDESC:Events for P.A.D.D.
REFRESH-INTERVAL;VALUE=DURATION:PT1H
X-Robots-Tag:noindex
X-PUBLISHED-TTL:PT1H
BEGIN:VTIMEZONE
TZID:UTC
BEGIN:STANDARD
TZOFFSETFROM:+0000
TZOFFSETTO:+0000
TZNAME:UTC
DTSTART:20180101T000000
END:STANDARD
END:VTIMEZONE
BEGIN:VEVENT
DTSTART;TZID=UTC:20190814T190000
DTEND;TZID=UTC:20190814T210000
DTSTAMP:20260423T184359
CREATED:20190606T152313Z
LAST-MODIFIED:20190606T152313Z
UID:447-1565809200-1565816400@www.paddnorth.ca
SUMMARY:Tackling Housing Series – Housing Co-ordinator for the North from the DSO
DESCRIPTION:Housing Co-ordinator for the North from the DSO\, Tracey Love will join us to explain housing options.
URL:https://www.paddnorth.ca/event/tackling-housing-series-housing-co-ordinator-for-the-north-from-the-dso/
LOCATION:Community Living North Bay\, 741 Wallace Road\, North Bay\, Ontario\, Canada
END:VEVENT
BEGIN:VEVENT
DTSTART;TZID=UTC:20190710T190000
DTEND;TZID=UTC:20190710T210000
DTSTAMP:20260423T184359
CREATED:20190625T005512Z
LAST-MODIFIED:20190625T005512Z
UID:455-1562785200-1562792400@www.paddnorth.ca
SUMMARY:Summer Social
DESCRIPTION:Come and enjoy a relaxing evening with P.A.D.D. \nCome and meet our hard working executive. \nCome and meet other partents who have adult children with developmental disabilities. \nCome and hear our stories! Come and share your story!
URL:https://www.paddnorth.ca/event/summer-social/
LOCATION:Community Living North Bay\, 741 Wallace Road\, North Bay\, Ontario\, Canada
END:VEVENT
BEGIN:VEVENT
DTSTART;TZID=UTC:20190612T190000
DTEND;TZID=UTC:20190612T210000
DTSTAMP:20260423T184359
CREATED:20190401T234855Z
LAST-MODIFIED:20190607T012441Z
UID:407-1560366000-1560373200@www.paddnorth.ca
SUMMARY:Exploring Employment Series - Community Living North Bay - Employment First Services
DESCRIPTION:Thinking of summer employment or volunteering for your young person with developmental disabilites? P.A.D.D. will be hosting the 3 big employment agencies\, MARCH OF DIMES\, YES EMPLOYMENT and EMPLOYMENT SERVICES NBCL\, over the next 3 months. We encourage everyone who is interested to come on out! After the presentation we will have a lively discussion as always and some goodies!
URL:https://www.paddnorth.ca/event/exploring-employment-series-community-living-north-bay-employment-services/
LOCATION:Community Living North Bay\, 741 Wallace Road\, North Bay\, Ontario\, Canada
END:VEVENT
BEGIN:VEVENT
DTSTART;TZID=UTC:20190508T190000
DTEND;TZID=UTC:20190508T210000
DTSTAMP:20260423T184359
CREATED:20190325T235645Z
LAST-MODIFIED:20190326T000958Z
UID:373-1557342000-1557349200@www.paddnorth.ca
SUMMARY:Exploring Employment Series - YES Employment
DESCRIPTION:YES Employment services will join us for our parent support meeting
URL:https://www.paddnorth.ca/event/exploring-employment-series-yes-employment/
LOCATION:Community Living North Bay\, 741 Wallace Road\, North Bay\, Ontario\, Canada
END:VEVENT
BEGIN:VEVENT
DTSTART;TZID=UTC:20190410T190000
DTEND;TZID=UTC:20190410T210000
DTSTAMP:20260423T184359
CREATED:20190326T000054Z
LAST-MODIFIED:20190401T234602Z
UID:376-1554922800-1554930000@www.paddnorth.ca
SUMMARY:Exploring Employment Series - March of Dimes - Employment Services
DESCRIPTION:Thinking of summer employment or volunteering for your young person with developmental disabilites? P.A.D.D. will be hosting the 3 big employment agencies\, MARCH OF DIMES\, YES EMPLOYMENT and EMPLOYMENT SERVICES NBCL\, over the next 3 months. We encourage everyone who is interested to come on out! After the presentation we will have a lively discussion as always and some goodies!
URL:https://www.paddnorth.ca/event/exploring-employment-series-community-living-employment-services/
LOCATION:Ontario
END:VEVENT
BEGIN:VEVENT
DTSTART;TZID=UTC:20190323T093000
DTEND;TZID=UTC:20190323T163000
DTSTAMP:20260423T184359
CREATED:20190227T151736Z
LAST-MODIFIED:20190227T151736Z
UID:308-1553333400-1553358600@www.paddnorth.ca
SUMMARY:Caring for the Caregiver
DESCRIPTION:This workshop will provide you with the skills and confidence you need to better care for yourself while caring for others.\nWhere: Community Living North Bay\, 741 Wallace Road \nDate: Saturday\, March 23 9:30 am – 4:30 pm \nThis workshop will be facilitated by Patricia O’Connor\, founder of Integrated Autism Consulting. Patricia works with parents and young adults to support transitions to adulthood\, provide advocacy in the workplace and community\, and establish the foundation for meaningful lives. \nRSVP: Linda M. Thomas Ouellette lindat@email.com or call (705) 478-9216 \nSponsored by P.A.D.D. (Parents of Adults with Developmental Delays)
URL:https://www.paddnorth.ca/event/caring-for-the-caregiver/
LOCATION:Ontario
END:VEVENT
BEGIN:VEVENT
DTSTART;TZID=UTC:20190313T190000
DTEND;TZID=UTC:20190313T210000
DTSTAMP:20260423T184359
CREATED:20190227T150703Z
LAST-MODIFIED:20190227T150703Z
UID:306-1552503600-1552510800@www.paddnorth.ca
SUMMARY:Annual General Meeting
DESCRIPTION:P.A.D.D. \nParents of Adults with Developmental Disabilities \nAnnual General Meeting  \nJoin us and discover our purpose and plans. Your interest and input are vital to our mission. \nOur Mission is to support parents\, defend their rights and to transform our community. \n  \nWednesday\, March 13\, 2019 \n7:00 pm to 9pm \nat Community Living North Bay\, 741 Wallace Road \n All are welcome  \n We are a grassroots parent support group. \n 
URL:https://www.paddnorth.ca/event/annual-general-meeting/
LOCATION:Ontario
END:VEVENT
BEGIN:VEVENT
DTSTART;TZID=UTC:20190109T190000
DTEND;TZID=UTC:20190109T210000
DTSTAMP:20260423T184359
CREATED:20181212T231744Z
LAST-MODIFIED:20181212T231744Z
UID:298-1547060400-1547067600@www.paddnorth.ca
SUMMARY:Monthly Meeting
DESCRIPTION:Our monthly meeting.
URL:https://www.paddnorth.ca/event/monthly-meeting-2/
LOCATION:Sherbrooke St\, 347 Sherbrooke St\, North Bay\, ON\, Canada
END:VEVENT
BEGIN:VEVENT
DTSTART;TZID=UTC:20181114T180000
DTEND;TZID=UTC:20181114T200000
DTSTAMP:20260423T184359
CREATED:20181016T190445Z
LAST-MODIFIED:20181016T190445Z
UID:251-1542218400-1542225600@www.paddnorth.ca
SUMMARY:November 2018 Meeting
DESCRIPTION:Monthly Meeting
URL:https://www.paddnorth.ca/event/november-2018-meeting/
LOCATION:Ontario
END:VEVENT
BEGIN:VEVENT
DTSTART;TZID=UTC:20181003T170000
DTEND;TZID=UTC:20181003T190000
DTSTAMP:20260423T184359
CREATED:20180925T183028Z
LAST-MODIFIED:20180925T184505Z
UID:195-1538586000-1538593200@www.paddnorth.ca
SUMMARY:Monthly Meeting
DESCRIPTION:Monthly Meeting
URL:https://www.paddnorth.ca/event/monthly-meeting/
LOCATION:North Bay Counselling Centre
END:VEVENT
END:VCALENDAR