BEGIN:VCALENDAR
VERSION:2.0
PRODID:-//P.A.D.D. - ECPv6.13.2.1//NONSGML v1.0//EN
CALSCALE:GREGORIAN
METHOD:PUBLISH
X-ORIGINAL-URL:https://www.paddnorth.ca
X-WR-CALDESC:Events for P.A.D.D.
REFRESH-INTERVAL;VALUE=DURATION:PT1H
X-Robots-Tag:noindex
X-PUBLISHED-TTL:PT1H
BEGIN:VTIMEZONE
TZID:UTC
BEGIN:STANDARD
TZOFFSETFROM:+0000
TZOFFSETTO:+0000
TZNAME:UTC
DTSTART:20230101T000000
END:STANDARD
END:VTIMEZONE
BEGIN:VEVENT
DTSTART;TZID=UTC:20230209T190000
DTEND;TZID=UTC:20230209T200000
DTSTAMP:20260425T162908
CREATED:20230118T233213Z
LAST-MODIFIED:20230118T233213Z
UID:736-1675969200-1675972800@www.paddnorth.ca
SUMMARY:We're Back
DESCRIPTION:Every Parent has a story. Let’s talk about yours!
URL:https://www.paddnorth.ca/event/were-back/
LOCATION:Community Living North Bay\, 741 Wallace Road\, North Bay\, Ontario\, Canada
END:VEVENT
END:VCALENDAR